BEGIN:VCALENDAR
VERSION:2.0
PRODID:-//Centrum Voor Positieve Gezondheid - ECPv6.15.20//NONSGML v1.0//EN
CALSCALE:GREGORIAN
METHOD:PUBLISH
X-WR-CALNAME:Centrum Voor Positieve Gezondheid
X-ORIGINAL-URL:https://cvpg.eu
X-WR-CALDESC:Evenementen voor Centrum Voor Positieve Gezondheid
REFRESH-INTERVAL;VALUE=DURATION:PT1H
X-Robots-Tag:noindex
X-PUBLISHED-TTL:PT1H
BEGIN:VTIMEZONE
TZID:UTC
BEGIN:STANDARD
TZOFFSETFROM:+0000
TZOFFSETTO:+0000
TZNAME:UTC
DTSTART:20210101T000000
END:STANDARD
END:VTIMEZONE
BEGIN:VEVENT
DTSTART;TZID=UTC:20221015T100000
DTEND;TZID=UTC:20221015T130000
DTSTAMP:20260424T014959
CREATED:20221015T104133Z
LAST-MODIFIED:20221015T114218Z
UID:1249-1665828000-1665838800@cvpg.eu
SUMMARY:Basis Zelfverdediging
DESCRIPTION:In deze cursus leer je jezelf op een simpele en effectieve manier verdedigen. Je krijgt tips over alertheid\, lichaamshouding\, je leert basis aanvallen en -verdedigingen. Na deze zes weken heb je een hele goede basis kennis over hoe je jezelf het beste uit een gevaarlijke situatie kunt halen of juist helemaal kunt voorkomen.
URL:https://cvpg.eu/agenda/basis-zelfverdediging/
LOCATION:CVPG\, Stenen Brug 6a\, Landgraaf\, 6372 AP\, Nederland
ATTACH;FMTTYPE=image/jpeg:https://cvpg.eu/wp-content/uploads/2022/10/yougotthis.jpg
ORGANIZER;CN="CVPG":MAILTO:info@cvpg.eu
END:VEVENT
END:VCALENDAR