BEGIN:VCALENDAR
VERSION:2.0
PRODID:-//Centrum Voor Positieve Gezondheid - ECPv6.15.20//NONSGML v1.0//EN
CALSCALE:GREGORIAN
METHOD:PUBLISH
X-WR-CALNAME:Centrum Voor Positieve Gezondheid
X-ORIGINAL-URL:https://cvpg.eu
X-WR-CALDESC:Evenementen voor Centrum Voor Positieve Gezondheid
REFRESH-INTERVAL;VALUE=DURATION:PT1H
X-Robots-Tag:noindex
X-PUBLISHED-TTL:PT1H
BEGIN:VTIMEZONE
TZID:UTC
BEGIN:STANDARD
TZOFFSETFROM:+0000
TZOFFSETTO:+0000
TZNAME:UTC
DTSTART:20230101T000000
END:STANDARD
END:VTIMEZONE
BEGIN:VEVENT
DTSTART;TZID=UTC:20250427T080000
DTEND;TZID=UTC:20250502T120000
DTSTAMP:20260423T101619
CREATED:20250119T103901Z
LAST-MODIFIED:20250414T075921Z
UID:3668-1745740800-1746187200@cvpg.eu
SUMMARY:Zelfcompassie retreat: meer balans en zelfliefde
DESCRIPTION:Weelderig Voorjaar: Zelfcompassie Retreat in Bad Mitterndorf\, 2025 \nIn het prachtige voorjaar\, omringd door bloeiende Alpenweides en rustgevende natuur\, start de Zelfcompassie Retreat 2025. Van 27 april tot 2 mei 2025 heten we je welkom in Bad Mitterndorf\, gelegen in de adembenemende Stiermarken\, Oostenrijk. Deze retreat combineert fysieke uitdaging en mentale rust om jou te helpen opnieuw verbinding te maken met jezelf en je kracht te ontdekken. \nWaarom kiezen voor de Zelfcompassie Retreat? \n\nLocatie: De Alpen in Bad Mitterndorf bieden een inspirerende en rustgevende omgeving.\nUitdaging: Kom fysiek en mentaal uit je comfortzone met unieke activiteiten.\nPersoonlijke groei: Ontdek hoe kwetsbaarheid en zelfcompassie je sterker maken.\n\nProgramma van de retreat \nElke ochtend word je begroet door het zachte licht van de opkomende zon over de Alpen. Gedurende de dag staan uitdagende activiteiten centraal die je lichaam en geest in balans brengen. In de serene avonden\, verlicht door kaarslicht\, creëren we een veilige ruimte om ervaringen te delen\, te lachen en los te laten. \nWanneer en waar? \nDe Zelfcompassie Retreat vindt plaats van 27 april tot 2 mei 2025 in Bad Mitterndorf\, een prachtige locatie in de Alpen van Oostenrijk. Het voorjaar in Stiermarken staat bekend om zijn frisse energie en levendige natuur\, perfect om jezelf op te laden. \nUnieke voordelen van deze retreat: \n\nVersterk je fysieke en mentale weerbaarheid.\nVind rust en hernieuwde energie in de adembenemende natuur.\nLeer waardevolle lessen in zelfcompassie en persoonlijke groei.\n\nBoek nu jouw plek \nMaak van deze lente een seizoen van transformatie en groei. Voor meer informatie of om je direct aan te melden\, mail naar info@cvpg.eu of bezoek onze website.
URL:https://cvpg.eu/agenda/zelfcompassie-retreat/
LOCATION:Bad Mitterndorf\, Oostenrijk\, Bad Mitterndorf\, Oostenrijk
ATTACH;FMTTYPE=image/jpeg:https://cvpg.eu/wp-content/uploads/2022/12/P1040816-scaled.jpg
ORGANIZER;CN="CVPG":MAILTO:info@cvpg.eu
END:VEVENT
BEGIN:VEVENT
DTSTART;TZID=UTC:20240512T140000
DTEND;TZID=UTC:20240517T120000
DTSTAMP:20260423T101619
CREATED:20231204T133136Z
LAST-MODIFIED:20231219T094440Z
UID:1786-1715522400-1715947200@cvpg.eu
SUMMARY:Retreat zelfcompassie mei 2024
DESCRIPTION:Zet jezelf op één\nIn de weelderige omhelzing van de herfst\, tussen de fluisterende bladeren en de kalmerende melodieën van de natuur\, ontvouwt zich een betoverende reis: de Retreat Zelfcompassie\, die plaatsvindt van 13 oktober tot 22 oktober 2024 in het schilderachtige Bad Mitterndorf\, gelegen in de adembenemende Stiermarken\, Oostenrijk. Deze periode belooft niet alleen een ontsnapping uit de dagelijkse drukte\, maar ook een diepgaande ontmoeting met de meest essentiële bron van troost – zelfcompassie. \nTe midden van de majestueuze Alpen wordt deze oase van rust gekenmerkt door de serene schoonheid van Bad Mitterndorf. De dagen worden gewijd aan het verkennen van de innerlijke landschappen van zelfliefde en mededogen\, geleid door wijze mentoren en doordrenkt met de helende energie van een gemeenschap die begrijpt dat kwetsbaarheid de poort naar kracht is. \nBij zonsopgang dansen de zonnestralen over de Alpen en schilderen ze een levendig palet van warme tinten over de valleien\, terwijl deelnemers de kunst van zelfreflectie ontdekken met behulp van zachte yoga en meditatieve sessies. Hier\, te midden van de majestueuze natuur\, wordt het hart uitgenodigd om in harmonie te kloppen met de ritmes van de omringende wereld. \nIn de avondschemering\, verlicht door de gloed van kaarslicht\, worden verhalen gedeeld in een sfeer doordrenkt van de rustgevende berglucht. Tranen worden beschouwd als heilige rivieren\, stromend naar de oceaan van begrip\, terwijl lachen fungeert als de tonische melodie die de ziel verlicht. \nTe midden van de besneeuwde toppen van de Stiermarken worden momenten van doorbraak gevierd als de ontvouwing van nieuwe vleugels. Deelnemers worden aangemoedigd om hun eigen kwetsbaarheid te omarmen\, omdat in die kwetsbaarheid de ware kracht van menselijkheid schuilt. \nDe Retreat Zelfcompassie van 5 t/m 10 mei belooft niet alleen een reis naar de kern van zelfliefde\, maar ook een blijvende indruk van de betoverende schoonheid van Bad Mitterndorf\, Oostenrijk. Het is niet alleen een ontsnapping; het is een thuiskomen bij jezelf\, temidden van de serene pracht van de Alpen.
URL:https://cvpg.eu/agenda/retreat-zelfcompassie-mei-2024/
LOCATION:Bad Mitterndorf\, Oostenrijk\, Bad Mitterndorf\, Oostenrijk
ATTACH;FMTTYPE=image/jpeg:https://cvpg.eu/wp-content/uploads/2023/02/Retreat_3.jpg
ORGANIZER;CN="CVPG":MAILTO:info@cvpg.eu
END:VEVENT
END:VCALENDAR