BEGIN:VCALENDAR
VERSION:2.0
PRODID:-//Centrum Voor Positieve Gezondheid - ECPv6.15.20//NONSGML v1.0//EN
CALSCALE:GREGORIAN
METHOD:PUBLISH
X-ORIGINAL-URL:https://cvpg.eu
X-WR-CALDESC:Evenementen voor Centrum Voor Positieve Gezondheid
REFRESH-INTERVAL;VALUE=DURATION:PT1H
X-Robots-Tag:noindex
X-PUBLISHED-TTL:PT1H
BEGIN:VTIMEZONE
TZID:UTC
BEGIN:STANDARD
TZOFFSETFROM:+0000
TZOFFSETTO:+0000
TZNAME:UTC
DTSTART:20240101T000000
END:STANDARD
END:VTIMEZONE
BEGIN:VEVENT
DTSTART;TZID=UTC:20260417T190000
DTEND;TZID=UTC:20260417T210000
DTSTAMP:20260421T121418
CREATED:20250201T112642Z
LAST-MODIFIED:20260216T194459Z
UID:3714-1776452400-1776459600@cvpg.eu
SUMMARY:Wim Hof Method Fundamenteels workshop
DESCRIPTION:In deze interactieve IJsbad workshop leer je hoe koude blootstelling je kan helpen om mentaal sterker te worden en je energie te verhogen. Je ontdekt hoe ademhalingsoefeningen\, gecombineerd met de kracht van het ijsbad\, je kunnen ondersteunen bij het vinden van rust in stressvolle situaties. Met technieken uit de Wim Hof Methode krijg je praktische tools om je lichaam en geest te resetten\, zodat je beter kunt omgaan met stress en meer balans kunt ervaren. \nIJsbad workshop 17:00-21:00 (en om 19:00 losse ademsessie en ijsbad).
URL:https://cvpg.eu/agenda/interactieve-ijsbad-workshop/
LOCATION:CVPG\, Stenen Brug 6a\, Landgraaf\, 6372 AP\, Nederland
ATTACH;FMTTYPE=image/png:https://cvpg.eu/wp-content/uploads/2024/04/Scherm­afbeelding-2024-04-24-om-12.58.14.png
END:VEVENT
BEGIN:VEVENT
DTSTART;TZID=UTC:20251212T170000
DTEND;TZID=UTC:20251212T210000
DTSTAMP:20260421T121418
CREATED:20250201T112409Z
LAST-MODIFIED:20250909T161624Z
UID:3709-1765558800-1765573200@cvpg.eu
SUMMARY:Wim Hof Method Fundamenteels workshop
DESCRIPTION:In deze interactieve IJsbad workshop leer je hoe koude blootstelling je kan helpen om mentaal sterker te worden en je energie te verhogen. Je ontdekt hoe ademhalingsoefeningen\, gecombineerd met de kracht van het ijsbad\, je kunnen ondersteunen bij het vinden van rust in stressvolle situaties. Met technieken uit de Wim Hof Methode krijg je praktische tools om je lichaam en geest te resetten\, zodat je beter kunt omgaan met stress en meer balans kunt ervaren. \nIJsbad workshop 17:00-21:00 (en om 19:00 losse ademsessie en ijsbad).
URL:https://cvpg.eu/agenda/3709/
LOCATION:CVPG\, Stenen Brug 6a\, Landgraaf\, 6372 AP\, Nederland
ATTACH;FMTTYPE=image/png:https://cvpg.eu/wp-content/uploads/2024/04/Scherm­afbeelding-2024-04-24-om-12.58.14.png
END:VEVENT
BEGIN:VEVENT
DTSTART;TZID=UTC:20250926T170000
DTEND;TZID=UTC:20250926T210000
DTSTAMP:20260421T121418
CREATED:20250201T112813Z
LAST-MODIFIED:20250909T161322Z
UID:3717-1758906000-1758920400@cvpg.eu
SUMMARY:Wim Hof Method Fundamenteels workshop
DESCRIPTION:In deze interactieve IJsbad workshop leer je hoe koude blootstelling je kan helpen om mentaal sterker te worden en je energie te verhogen. Je ontdekt hoe ademhalingsoefeningen\, gecombineerd met de kracht van het ijsbad\, je kunnen ondersteunen bij het vinden van rust in stressvolle situaties. Met technieken uit de Wim Hof Methode krijg je praktische tools om je lichaam en geest te resetten\, zodat je beter kunt omgaan met stress en meer balans kunt ervaren. \nIJsbad workshop 17:00-21:00 (en om 19:00 losse ademsessie en ijsbad).
URL:https://cvpg.eu/agenda/interactieve-ijsbad-workshop-2/
LOCATION:CVPG\, Stenen Brug 6a\, Landgraaf\, 6372 AP\, Nederland
ATTACH;FMTTYPE=image/jpeg:https://cvpg.eu/wp-content/uploads/2025/02/PHOTO-2025-04-07-14-38-23.jpg
END:VEVENT
END:VCALENDAR