BEGIN:VCALENDAR
VERSION:2.0
PRODID:-//Centrum Voor Positieve Gezondheid - ECPv6.15.20//NONSGML v1.0//EN
CALSCALE:GREGORIAN
METHOD:PUBLISH
X-ORIGINAL-URL:https://cvpg.eu
X-WR-CALDESC:Evenementen voor Centrum Voor Positieve Gezondheid
REFRESH-INTERVAL;VALUE=DURATION:PT1H
X-Robots-Tag:noindex
X-PUBLISHED-TTL:PT1H
BEGIN:VTIMEZONE
TZID:UTC
BEGIN:STANDARD
TZOFFSETFROM:+0000
TZOFFSETTO:+0000
TZNAME:UTC
DTSTART:20250101T000000
END:STANDARD
END:VTIMEZONE
BEGIN:VEVENT
DTSTART;TZID=UTC:20260717T190000
DTEND;TZID=UTC:20260717T210000
DTSTAMP:20260421T170507
CREATED:20260216T194811Z
LAST-MODIFIED:20260216T194819Z
UID:3950-1784314800-1784322000@cvpg.eu
SUMMARY:Wim Hof Method Fundamenteels workshop
DESCRIPTION:In deze interactieve IJsbad workshop leer je hoe koude blootstelling je kan helpen om mentaal sterker te worden en je energie te verhogen. Je ontdekt hoe ademhalingsoefeningen\, gecombineerd met de kracht van het ijsbad\, je kunnen ondersteunen bij het vinden van rust in stressvolle situaties. Met technieken uit de Wim Hof Methode krijg je praktische tools om je lichaam en geest te resetten\, zodat je beter kunt omgaan met stress en meer balans kunt ervaren. \nIJsbad workshop 17:00-21:00 (en om 19:00 losse ademsessie en ijsbad).
URL:https://cvpg.eu/agenda/wim-hof-method-fundamenteels-workshop/
LOCATION:CVPG\, Stenen Brug 6a\, Landgraaf\, 6372 AP\, Nederland
ATTACH;FMTTYPE=image/png:https://cvpg.eu/wp-content/uploads/2024/04/Scherm­afbeelding-2024-04-24-om-12.58.14.png
END:VEVENT
END:VCALENDAR